BEGIN:VCALENDAR
VERSION:2.0
PRODID:-//Michael Delaware - ECPv6.15.20//NONSGML v1.0//EN
CALSCALE:GREGORIAN
METHOD:PUBLISH
X-ORIGINAL-URL:https://michaeldelaware.com
X-WR-CALDESC:Events for Michael Delaware
REFRESH-INTERVAL;VALUE=DURATION:PT1H
X-Robots-Tag:noindex
X-PUBLISHED-TTL:PT1H
BEGIN:VTIMEZONE
TZID:America/New_York
BEGIN:DAYLIGHT
TZOFFSETFROM:-0500
TZOFFSETTO:-0400
TZNAME:EDT
DTSTART:20250309T070000
END:DAYLIGHT
BEGIN:STANDARD
TZOFFSETFROM:-0400
TZOFFSETTO:-0500
TZNAME:EST
DTSTART:20251102T060000
END:STANDARD
BEGIN:DAYLIGHT
TZOFFSETFROM:-0500
TZOFFSETTO:-0400
TZNAME:EDT
DTSTART:20260308T070000
END:DAYLIGHT
BEGIN:STANDARD
TZOFFSETFROM:-0400
TZOFFSETTO:-0500
TZNAME:EST
DTSTART:20261101T060000
END:STANDARD
BEGIN:DAYLIGHT
TZOFFSETFROM:-0500
TZOFFSETTO:-0400
TZNAME:EDT
DTSTART:20270314T070000
END:DAYLIGHT
BEGIN:STANDARD
TZOFFSETFROM:-0400
TZOFFSETTO:-0500
TZNAME:EST
DTSTART:20271107T060000
END:STANDARD
END:VTIMEZONE
BEGIN:VEVENT
DTSTART;TZID=America/New_York:20260404T090000
DTEND;TZID=America/New_York:20260404T150000
DTSTAMP:20260424T153343
CREATED:20260306T010528Z
LAST-MODIFIED:20260306T010528Z
UID:1498-1775293200-1775314800@michaeldelaware.com
SUMMARY:Kalamazoo County Expo Center Flea Market
DESCRIPTION:The Kalamazoo County Expo Center is holding a flea market on Saturday\, April 4th from 9AM – 3PM. \nAuthor Michael Delaware will have a booth at this event\, selling and signing copies of his books. \nThere is no admission fee for this event.
URL:https://michaeldelaware.com/event/kalamazoo-county-expo-center-flea-market/
LOCATION:Kalamazoo County Expo Center\, 2900 Lake St\, Kalamazoo\, MI\, 49048\, United States
CATEGORIES:Arts & Crafts Show
ATTACH;FMTTYPE=image/png:https://michaeldelaware.com/wp-content/uploads/2026/03/Flea-Market-April-4th.png
END:VEVENT
END:VCALENDAR