BEGIN:VCALENDAR
VERSION:2.0
PRODID:-//Michael Delaware - ECPv6.15.20//NONSGML v1.0//EN
CALSCALE:GREGORIAN
METHOD:PUBLISH
X-ORIGINAL-URL:https://michaeldelaware.com
X-WR-CALDESC:Events for Michael Delaware
REFRESH-INTERVAL;VALUE=DURATION:PT1H
X-Robots-Tag:noindex
X-PUBLISHED-TTL:PT1H
BEGIN:VTIMEZONE
TZID:America/New_York
BEGIN:DAYLIGHT
TZOFFSETFROM:-0500
TZOFFSETTO:-0400
TZNAME:EDT
DTSTART:20250309T070000
END:DAYLIGHT
BEGIN:STANDARD
TZOFFSETFROM:-0400
TZOFFSETTO:-0500
TZNAME:EST
DTSTART:20251102T060000
END:STANDARD
BEGIN:DAYLIGHT
TZOFFSETFROM:-0500
TZOFFSETTO:-0400
TZNAME:EDT
DTSTART:20260308T070000
END:DAYLIGHT
BEGIN:STANDARD
TZOFFSETFROM:-0400
TZOFFSETTO:-0500
TZNAME:EST
DTSTART:20261101T060000
END:STANDARD
BEGIN:DAYLIGHT
TZOFFSETFROM:-0500
TZOFFSETTO:-0400
TZNAME:EDT
DTSTART:20270314T070000
END:DAYLIGHT
BEGIN:STANDARD
TZOFFSETFROM:-0400
TZOFFSETTO:-0500
TZNAME:EST
DTSTART:20271107T060000
END:STANDARD
END:VTIMEZONE
BEGIN:VEVENT
DTSTART;TZID=America/New_York:20260627T100000
DTEND;TZID=America/New_York:20260627T160000
DTSTAMP:20260424T222151
CREATED:20260317T202928Z
LAST-MODIFIED:20260317T202928Z
UID:1608-1782554400-1782576000@michaeldelaware.com
SUMMARY:Del Shannon Weekend Car Show & Arts and Crafts Fair
DESCRIPTION:4th Annual Del Shannon Car Show & Arts and Crafts Fair\nSaturday\, June 27th\n10AM – 4PM\nBegg Park\nLook for the great mix of arts and crafts tents at this wonderful annual car show featuring classic cars and trucks from all over the region. There will be games for the kids\, food and music. \nLook for the booth of Author Michael Delaware at this event. He will be selling and signing copies of his books on Victorian Michigan True Crime. \nThis event is to benefit the Battle Creek Regional History Museum
URL:https://michaeldelaware.com/event/del-shannon-weekend-car-show-arts-and-crafts-fair/
LOCATION:Begg Park\, 537 Military St\, Springfield\, MI\, 49037\, United States
CATEGORIES:Arts & Crafts Show,Car Show
ATTACH;FMTTYPE=image/png:https://michaeldelaware.com/wp-content/uploads/2026/03/Del-Shannon-Car-Show-2026-e1773779313502.png
END:VEVENT
END:VCALENDAR