BEGIN:VCALENDAR
VERSION:2.0
PRODID:-//Michael Delaware - ECPv6.15.20//NONSGML v1.0//EN
CALSCALE:GREGORIAN
METHOD:PUBLISH
X-ORIGINAL-URL:https://michaeldelaware.com
X-WR-CALDESC:Events for Michael Delaware
REFRESH-INTERVAL;VALUE=DURATION:PT1H
X-Robots-Tag:noindex
X-PUBLISHED-TTL:PT1H
BEGIN:VTIMEZONE
TZID:America/New_York
BEGIN:DAYLIGHT
TZOFFSETFROM:-0500
TZOFFSETTO:-0400
TZNAME:EDT
DTSTART:20250309T070000
END:DAYLIGHT
BEGIN:STANDARD
TZOFFSETFROM:-0400
TZOFFSETTO:-0500
TZNAME:EST
DTSTART:20251102T060000
END:STANDARD
BEGIN:DAYLIGHT
TZOFFSETFROM:-0500
TZOFFSETTO:-0400
TZNAME:EDT
DTSTART:20260308T070000
END:DAYLIGHT
BEGIN:STANDARD
TZOFFSETFROM:-0400
TZOFFSETTO:-0500
TZNAME:EST
DTSTART:20261101T060000
END:STANDARD
BEGIN:DAYLIGHT
TZOFFSETFROM:-0500
TZOFFSETTO:-0400
TZNAME:EDT
DTSTART:20270314T070000
END:DAYLIGHT
BEGIN:STANDARD
TZOFFSETFROM:-0400
TZOFFSETTO:-0500
TZNAME:EST
DTSTART:20271107T060000
END:STANDARD
END:VTIMEZONE
BEGIN:VEVENT
DTSTART;TZID=America/New_York:20260905T110000
DTEND;TZID=America/New_York:20260906T160000
DTSTAMP:20260424T152612
CREATED:20260319T211001Z
LAST-MODIFIED:20260319T211001Z
UID:1709-1788606000-1788710400@michaeldelaware.com
SUMMARY:Festival of Oddities
DESCRIPTION:The Festival of Oddities is an annual weekend celebration of all things odd held at the Courthouse Square Museum in Charlotte\, MI. \nThe vendors include all sorts of arts and crafts of the macabre theme\, with entertainment\, costumed characters and museum tours. There is also a Michigan author section complete with true crime\, horror and ghostly stories to entice the readers of all things scary\, spooky and dark. \nThis year the event is being held: \nSaturday\, September 5th 11AM – 6PM\nSunday\, September 6th 11AM – 4PM\nLook for Author Michael Delaware at the author tent alongside other true crime and paranomal authors from Michigan. \nThis is a great outdoor event on Labor Day weekend! Admission to the grounds at the festival is free. Admission to the historic Courthouse Square Museum is $5 per person. Come out to be part of the spooky festival with a heart!
URL:https://michaeldelaware.com/event/festival-of-oddities/
LOCATION:Courthouse Square Museum\, 100 W Lawrence Ave\, Charlotte\, MI\, 48813\, United States
CATEGORIES:Arts & Crafts Show,Festival
ATTACH;FMTTYPE=image/png:https://michaeldelaware.com/wp-content/uploads/2026/03/FOO-2026-e1773954591250.png
END:VEVENT
BEGIN:VEVENT
DTSTART;TZID=America/New_York:20260911T120000
DTEND;TZID=America/New_York:20260913T160000
DTSTAMP:20260424T152613
CREATED:20260319T213100Z
LAST-MODIFIED:20260319T213552Z
UID:1718-1789128000-1789315200@michaeldelaware.com
SUMMARY:Frontier Days
DESCRIPTION:Frontier Days is celebrating its 55th year in Charlotte\, Michigan!\nThe Arts & Crafts Festival is on the lawn of the Courthouse Square Museum in downtown.\nThe schedule for this years craft show is:\nFriday\, September 11th 12PM – 7PM\nSaturday\, September 12th 9AM – 6PM\nSunday\, September 13th 11AM – 4PM\nAuthor Michael Delaware will have a booth at this outdoor festival this year on the courthouse lawn. He will be selling copies of all three of his books on Victorian Michigan True Crime. Stop by to purchase a signed copy. \nCharlotte Frontier Days was founded in 1970 by Steve Musselman. Musselman set out to enhance the city of Charlotte through community involvement with a festival that\, still today\, draws in thousands of people from Michigan and beyond. Musselman put together a successful and entertaining festival that has become a tradition for more than  50 years. \nWith profits from the first festival\, bleachers were donated to Charlotte High School. Since then the Charlotte Frontier Days board members have made donations to the Charlotte public library\, Charlotte public parks\, and much more\, making Frontier Days vital to the City of Charlotte.  \nThe First Annual Charlotte Frontier Days festival featured a parade\, queens contest\, outdoor club rodeo\, and an arts and crafts show. Keeping with tradition\, Charlotte Frontier Days continues to offer many of these same activities and so much more. The unlimited activities\, fun for all ages\, and the great community are what keep this festival alive!
URL:https://michaeldelaware.com/event/frontier-days/
LOCATION:Courthouse Square Museum\, 100 W Lawrence Ave\, Charlotte\, MI\, 48813\, United States
CATEGORIES:Arts & Crafts Show,Festival
ATTACH;FMTTYPE=image/png:https://michaeldelaware.com/wp-content/uploads/2026/03/Frontier-Days-logo-1.png
END:VEVENT
BEGIN:VEVENT
DTSTART;TZID=America/New_York:20260927T110000
DTEND;TZID=America/New_York:20260927T160000
DTSTAMP:20260424T152613
CREATED:20260319T223921Z
LAST-MODIFIED:20260319T223921Z
UID:1736-1790506800-1790524800@michaeldelaware.com
SUMMARY:Vicksburg Harvest Festival
DESCRIPTION:The Vicksburg Harvest Festival is an annual event at the Historic Vicksburg Village. \nThis event is held: \nSunday\, September 27th 11AM – 4PM\nThis is a fun harvest themed event with tractors\, craft vendors\, a farmers market\, petting zoo and tours of historic buildings. There are a lot of fun activities for the kids. This is a free outdoor event for the whole family. There are fees for some of the activities. The event is a fundraiser for the historic village. \nLook for the booth of Author Michael Delaware. He will be selling and signing copies of his books on Victorian Michigan True Crime\, including his latest one ‘Crime and Corruption on the Michigan Railroad: Stories from the Victorian Era’.
URL:https://michaeldelaware.com/event/vicksburg-harvest-festival/
LOCATION:Historic Vicksburg Village\, 300 N Richardson St\, Vicksburg\, MI\, 49097\, United States
CATEGORIES:Arts & Crafts Show,Festival
ATTACH;FMTTYPE=image/png:https://michaeldelaware.com/wp-content/uploads/2026/03/Vicksburg-Harvest-Festival-2026.png
END:VEVENT
END:VCALENDAR