BEGIN:VCALENDAR
VERSION:2.0
PRODID:-//Michael Delaware - ECPv6.15.20//NONSGML v1.0//EN
CALSCALE:GREGORIAN
METHOD:PUBLISH
X-ORIGINAL-URL:https://michaeldelaware.com
X-WR-CALDESC:Events for Michael Delaware
REFRESH-INTERVAL;VALUE=DURATION:PT1H
X-Robots-Tag:noindex
X-PUBLISHED-TTL:PT1H
BEGIN:VTIMEZONE
TZID:America/New_York
BEGIN:DAYLIGHT
TZOFFSETFROM:-0500
TZOFFSETTO:-0400
TZNAME:EDT
DTSTART:20250309T070000
END:DAYLIGHT
BEGIN:STANDARD
TZOFFSETFROM:-0400
TZOFFSETTO:-0500
TZNAME:EST
DTSTART:20251102T060000
END:STANDARD
BEGIN:DAYLIGHT
TZOFFSETFROM:-0500
TZOFFSETTO:-0400
TZNAME:EDT
DTSTART:20260308T070000
END:DAYLIGHT
BEGIN:STANDARD
TZOFFSETFROM:-0400
TZOFFSETTO:-0500
TZNAME:EST
DTSTART:20261101T060000
END:STANDARD
BEGIN:DAYLIGHT
TZOFFSETFROM:-0500
TZOFFSETTO:-0400
TZNAME:EDT
DTSTART:20270314T070000
END:DAYLIGHT
BEGIN:STANDARD
TZOFFSETFROM:-0400
TZOFFSETTO:-0500
TZNAME:EST
DTSTART:20271107T060000
END:STANDARD
END:VTIMEZONE
BEGIN:VEVENT
DTSTART;TZID=America/New_York:20260826T190000
DTEND;TZID=America/New_York:20260826T203000
DTSTAMP:20260424T184127
CREATED:20260319T130053Z
LAST-MODIFIED:20260319T130053Z
UID:1664-1787770800-1787776200@michaeldelaware.com
SUMMARY:Galien Township Public Library Presentation
DESCRIPTION:Author Michael Delaware will be presenting stories at the Galien Township Public Library on: \nWednesday\, August 26th at 7:00PM\nThe presentation will be on a story from the book ‘Murder in Victorian Western Michigan’ and also one from his new book to be released on August 25th\, ‘Crime and Corruption on the Michigan Railroad: Stories from the Victorian Era’. \nThis event is a free event organized by the Galien Historical Society and the Galien Township Public Library.
URL:https://michaeldelaware.com/event/galien-library/
LOCATION:Galien Twp Public Library\, 302 N Cleveland St\, Galien\, MI\, 49113\, United States
CATEGORIES:Speaking Event
ATTACH;FMTTYPE=image/jpeg:https://michaeldelaware.com/wp-content/uploads/2026/03/20240429_192246-scaled-e1772759837437.jpg
END:VEVENT
END:VCALENDAR