BEGIN:VCALENDAR
VERSION:2.0
PRODID:-//Michael Delaware - ECPv6.15.20//NONSGML v1.0//EN
CALSCALE:GREGORIAN
METHOD:PUBLISH
X-WR-CALNAME:Michael Delaware
X-ORIGINAL-URL:https://michaeldelaware.com
X-WR-CALDESC:Events for Michael Delaware
REFRESH-INTERVAL;VALUE=DURATION:PT1H
X-Robots-Tag:noindex
X-PUBLISHED-TTL:PT1H
BEGIN:VTIMEZONE
TZID:America/New_York
BEGIN:DAYLIGHT
TZOFFSETFROM:-0500
TZOFFSETTO:-0400
TZNAME:EDT
DTSTART:20250309T070000
END:DAYLIGHT
BEGIN:STANDARD
TZOFFSETFROM:-0400
TZOFFSETTO:-0500
TZNAME:EST
DTSTART:20251102T060000
END:STANDARD
BEGIN:DAYLIGHT
TZOFFSETFROM:-0500
TZOFFSETTO:-0400
TZNAME:EDT
DTSTART:20260308T070000
END:DAYLIGHT
BEGIN:STANDARD
TZOFFSETFROM:-0400
TZOFFSETTO:-0500
TZNAME:EST
DTSTART:20261101T060000
END:STANDARD
BEGIN:DAYLIGHT
TZOFFSETFROM:-0500
TZOFFSETTO:-0400
TZNAME:EDT
DTSTART:20270314T070000
END:DAYLIGHT
BEGIN:STANDARD
TZOFFSETFROM:-0400
TZOFFSETTO:-0500
TZNAME:EST
DTSTART:20271107T060000
END:STANDARD
END:VTIMEZONE
BEGIN:VEVENT
DTSTART;TZID=America/New_York:20260425T090000
DTEND;TZID=America/New_York:20260426T150000
DTSTAMP:20260424T172929
CREATED:20260306T020049Z
LAST-MODIFIED:20260306T020049Z
UID:1533-1777107600-1777215600@michaeldelaware.com
SUMMARY:Spring Craft Show
DESCRIPTION:Author Michael Delaware will have a booth at the Spring Craft Show at the Kalamazoo County Expo Center on April 25th & 26th. \nThis is a very large arts and craft show with over 200 booths. \nEvent hours are:\nSaturday\, April 25th 9AM – 3PM\nSunday\, April 26th\, 10AM – 3PM\nThere is no fee to attend this event.
URL:https://michaeldelaware.com/event/spring-craft-show-2/
LOCATION:Kalamazoo County Expo Center\, 2900 Lake St\, Kalamazoo\, MI\, 49048\, United States
CATEGORIES:Arts & Crafts Show
ATTACH;FMTTYPE=image/png:https://michaeldelaware.com/wp-content/uploads/2026/03/Spring-show-april-25-26-e1772762399725.png
END:VEVENT
END:VCALENDAR