BEGIN:VCALENDAR
VERSION:2.0
PRODID:-//Michael Delaware - ECPv6.15.20//NONSGML v1.0//EN
CALSCALE:GREGORIAN
METHOD:PUBLISH
X-ORIGINAL-URL:https://michaeldelaware.com
X-WR-CALDESC:Events for Michael Delaware
REFRESH-INTERVAL;VALUE=DURATION:PT1H
X-Robots-Tag:noindex
X-PUBLISHED-TTL:PT1H
BEGIN:VTIMEZONE
TZID:America/New_York
BEGIN:DAYLIGHT
TZOFFSETFROM:-0500
TZOFFSETTO:-0400
TZNAME:EDT
DTSTART:20250309T070000
END:DAYLIGHT
BEGIN:STANDARD
TZOFFSETFROM:-0400
TZOFFSETTO:-0500
TZNAME:EST
DTSTART:20251102T060000
END:STANDARD
BEGIN:DAYLIGHT
TZOFFSETFROM:-0500
TZOFFSETTO:-0400
TZNAME:EDT
DTSTART:20260308T070000
END:DAYLIGHT
BEGIN:STANDARD
TZOFFSETFROM:-0400
TZOFFSETTO:-0500
TZNAME:EST
DTSTART:20261101T060000
END:STANDARD
BEGIN:DAYLIGHT
TZOFFSETFROM:-0500
TZOFFSETTO:-0400
TZNAME:EDT
DTSTART:20270314T070000
END:DAYLIGHT
BEGIN:STANDARD
TZOFFSETFROM:-0400
TZOFFSETTO:-0500
TZNAME:EST
DTSTART:20271107T060000
END:STANDARD
END:VTIMEZONE
BEGIN:VEVENT
DTSTART;TZID=America/New_York:20261010T130000
DTEND;TZID=America/New_York:20261010T160000
DTSTAMP:20260424T170957
CREATED:20260320T213101Z
LAST-MODIFIED:20260320T213101Z
UID:1760-1791637200-1791648000@michaeldelaware.com
SUMMARY:Michigan History Author Symposium
DESCRIPTION:The Michigan History Author Symposium is an event held annually at the Battle Creek Regional History Museum. It brings together Michigan history authors from all over the state to tell stories\, sell and sign books\, answer questions from readers\, and celebrate history. Each year the line up varies\, but in each case the authors tell diverse stories from Michigan history. \nThe 2026 year line up of authors include: \nMichael Delaware\, Mikel Classen\, Elizabeth Neumeyer\, Dianna Stampfler\, T.R. Shaw\, Amy J. Piper\, Sonya Hollins\, John Wemlinger\, B.R. Bates\, Dr. Gerald Cliff\, Kurt Thornton and Tom Carr. More authors are expected to join the line up as the event grows closer\, so check back in for details.
URL:https://michaeldelaware.com/event/michigan-history-author-symposium/
LOCATION:Battle Creek Regional History Museum\, 307 W Jackson St\, Battle Creek\, MI\, 49037\, United States
CATEGORIES:Speaking Event,Symposium
ATTACH;FMTTYPE=image/png:https://michaeldelaware.com/wp-content/uploads/2026/03/MI-History-Author-Symposium-e1774041900542.png
END:VEVENT
END:VCALENDAR